BEGIN:VCALENDAR
PRODID:http://www.kufer.de/kuferweb / DE
VERSION:2.0
METHOD:PUBLISH
CALSCALE:GREGORIAN
X-WR-TIMEZONE:Europe/Berlin
BEGIN:VTIMEZONE
TZID:Europe/Berlin
X-LIC-LOCATION:Europe/Berlin
BEGIN:DAYLIGHT
TZOFFSETFROM:+0100
TZOFFSETTO:+0200
TZNAME:CEST
DTSTART;TZID=Europe/Berlin:19700329T020000
RRULE:FREQ=YEARLY;INTERVAL=1;BYDAY=-1SU;BYMONTH=3
END:DAYLIGHT
BEGIN:STANDARD
TZOFFSETFROM:+0200
TZOFFSETTO:+0100
TZNAME:CET
DTSTART;TZID=Europe/Berlin:19701025T030000
RRULE:FREQ=YEARLY;INTERVAL=1;BYDAY=-1SU;BYMONTH=10
END:STANDARD
END:VTIMEZONE
BEGIN:VEVENT
DTSTAMP:20260419T143246
DTSTART;TZID=Europe/Berlin:20260112T160000
DTEND;TZID=Europe/Berlin:20260112T173000
UID:261-9816-20260112T160000@VHSHAGEN
SUMMARY:Ukulele Kleines Instrument - Großer Spaß! (261-9816) 
LOCATION:Max-Reger-Musikschule, Dödterstr. 10, 58095 Hagen
END:VEVENT
BEGIN:VEVENT
DTSTAMP:20260419T143246
DTSTART;TZID=Europe/Berlin:20260119T160000
DTEND;TZID=Europe/Berlin:20260119T173000
UID:261-9816-20260119T160000@VHSHAGEN
SUMMARY:Ukulele Kleines Instrument - Großer Spaß! (261-9816) 
LOCATION:Max-Reger-Musikschule, Dödterstr. 10, 58095 Hagen
END:VEVENT
BEGIN:VEVENT
DTSTAMP:20260419T143246
DTSTART;TZID=Europe/Berlin:20260126T160000
DTEND;TZID=Europe/Berlin:20260126T173000
UID:261-9816-20260126T160000@VHSHAGEN
SUMMARY:Ukulele Kleines Instrument - Großer Spaß! (261-9816) 
LOCATION:Max-Reger-Musikschule, Dödterstr. 10, 58095 Hagen
END:VEVENT
BEGIN:VEVENT
DTSTAMP:20260419T143246
DTSTART;TZID=Europe/Berlin:20260202T160000
DTEND;TZID=Europe/Berlin:20260202T173000
UID:261-9816-20260202T160000@VHSHAGEN
SUMMARY:Ukulele Kleines Instrument - Großer Spaß! (261-9816) 
LOCATION:Max-Reger-Musikschule, Dödterstr. 10, 58095 Hagen
END:VEVENT
BEGIN:VEVENT
DTSTAMP:20260419T143246
DTSTART;TZID=Europe/Berlin:20260209T160000
DTEND;TZID=Europe/Berlin:20260209T173000
UID:261-9816-20260209T160000@VHSHAGEN
SUMMARY:Ukulele Kleines Instrument - Großer Spaß! (261-9816) 
LOCATION:Max-Reger-Musikschule, Dödterstr. 10, 58095 Hagen
END:VEVENT
BEGIN:VEVENT
DTSTAMP:20260419T143246
DTSTART;TZID=Europe/Berlin:20260223T160000
DTEND;TZID=Europe/Berlin:20260223T173000
UID:261-9816-20260223T160000@VHSHAGEN
SUMMARY:Ukulele Kleines Instrument - Großer Spaß! (261-9816) 
LOCATION:Max-Reger-Musikschule, Dödterstr. 10, 58095 Hagen
END:VEVENT
BEGIN:VEVENT
DTSTAMP:20260419T143246
DTSTART;TZID=Europe/Berlin:20260302T160000
DTEND;TZID=Europe/Berlin:20260302T173000
UID:261-9816-20260302T160000@VHSHAGEN
SUMMARY:Ukulele Kleines Instrument - Großer Spaß! (261-9816) 
LOCATION:Max-Reger-Musikschule, Dödterstr. 10, 58095 Hagen
END:VEVENT
BEGIN:VEVENT
DTSTAMP:20260419T143246
DTSTART;TZID=Europe/Berlin:20260309T160000
DTEND;TZID=Europe/Berlin:20260309T173000
UID:261-9816-20260309T160000@VHSHAGEN
SUMMARY:Ukulele Kleines Instrument - Großer Spaß! (261-9816) 
LOCATION:Max-Reger-Musikschule, Dödterstr. 10, 58095 Hagen
END:VEVENT
BEGIN:VEVENT
DTSTAMP:20260419T143246
DTSTART;TZID=Europe/Berlin:20260316T160000
DTEND;TZID=Europe/Berlin:20260316T173000
UID:261-9816-20260316T160000@VHSHAGEN
SUMMARY:Ukulele Kleines Instrument - Großer Spaß! (261-9816) 
LOCATION:Max-Reger-Musikschule, Dödterstr. 10, 58095 Hagen
END:VEVENT
BEGIN:VEVENT
DTSTAMP:20260419T143246
DTSTART;TZID=Europe/Berlin:20260323T160000
DTEND;TZID=Europe/Berlin:20260323T173000
UID:261-9816-20260323T160000@VHSHAGEN
SUMMARY:Ukulele Kleines Instrument - Großer Spaß! (261-9816) 
LOCATION:Max-Reger-Musikschule, Dödterstr. 10, 58095 Hagen
END:VEVENT
BEGIN:VEVENT
DTSTAMP:20260419T143246
DTSTART;TZID=Europe/Berlin:20260413T160000
DTEND;TZID=Europe/Berlin:20260413T173000
UID:261-9816-20260413T160000@VHSHAGEN
SUMMARY:Ukulele Kleines Instrument - Großer Spaß! (261-9816) 
LOCATION:Max-Reger-Musikschule, Dödterstr. 10, 58095 Hagen
END:VEVENT
BEGIN:VEVENT
DTSTAMP:20260419T143246
DTSTART;TZID=Europe/Berlin:20260420T160000
DTEND;TZID=Europe/Berlin:20260420T173000
UID:261-9816-20260420T160000@VHSHAGEN
SUMMARY:Ukulele Kleines Instrument - Großer Spaß! (261-9816) 
LOCATION:Max-Reger-Musikschule, Dödterstr. 10, 58095 Hagen
END:VEVENT
BEGIN:VEVENT
DTSTAMP:20260419T143246
DTSTART;TZID=Europe/Berlin:20260427T160000
DTEND;TZID=Europe/Berlin:20260427T173000
UID:261-9816-20260427T160000@VHSHAGEN
SUMMARY:Ukulele Kleines Instrument - Großer Spaß! (261-9816) 
LOCATION:Max-Reger-Musikschule, Dödterstr. 10, 58095 Hagen
END:VEVENT
BEGIN:VEVENT
DTSTAMP:20260419T143246
DTSTART;TZID=Europe/Berlin:20260504T160000
DTEND;TZID=Europe/Berlin:20260504T173000
UID:261-9816-20260504T160000@VHSHAGEN
SUMMARY:Ukulele Kleines Instrument - Großer Spaß! (261-9816) 
LOCATION:Max-Reger-Musikschule, Dödterstr. 10, 58095 Hagen
END:VEVENT
BEGIN:VEVENT
DTSTAMP:20260419T143246
DTSTART;TZID=Europe/Berlin:20260511T160000
DTEND;TZID=Europe/Berlin:20260511T173000
UID:261-9816-20260511T160000@VHSHAGEN
SUMMARY:Ukulele Kleines Instrument - Großer Spaß! (261-9816) 
LOCATION:Max-Reger-Musikschule, Dödterstr. 10, 58095 Hagen
END:VEVENT
BEGIN:VEVENT
DTSTAMP:20260419T143246
DTSTART;TZID=Europe/Berlin:20260518T160000
DTEND;TZID=Europe/Berlin:20260518T173000
UID:261-9816-20260518T160000@VHSHAGEN
SUMMARY:Ukulele Kleines Instrument - Großer Spaß! (261-9816) 
LOCATION:Max-Reger-Musikschule, Dödterstr. 10, 58095 Hagen
END:VEVENT
BEGIN:VEVENT
DTSTAMP:20260419T143246
DTSTART;TZID=Europe/Berlin:20260601T160000
DTEND;TZID=Europe/Berlin:20260601T173000
UID:261-9816-20260601T160000@VHSHAGEN
SUMMARY:Ukulele Kleines Instrument - Großer Spaß! (261-9816) 
LOCATION:Max-Reger-Musikschule, Dödterstr. 10, 58095 Hagen
END:VEVENT
BEGIN:VEVENT
DTSTAMP:20260419T143246
DTSTART;TZID=Europe/Berlin:20260608T160000
DTEND;TZID=Europe/Berlin:20260608T173000
UID:261-9816-20260608T160000@VHSHAGEN
SUMMARY:Ukulele Kleines Instrument - Großer Spaß! (261-9816) 
LOCATION:Max-Reger-Musikschule, Dödterstr. 10, 58095 Hagen
END:VEVENT
BEGIN:VEVENT
DTSTAMP:20260419T143246
DTSTART;TZID=Europe/Berlin:20260615T160000
DTEND;TZID=Europe/Berlin:20260615T173000
UID:261-9816-20260615T160000@VHSHAGEN
SUMMARY:Ukulele Kleines Instrument - Großer Spaß! (261-9816) 
LOCATION:Max-Reger-Musikschule, Dödterstr. 10, 58095 Hagen
END:VEVENT
BEGIN:VEVENT
DTSTAMP:20260419T143246
DTSTART;TZID=Europe/Berlin:20260622T160000
DTEND;TZID=Europe/Berlin:20260622T173000
UID:261-9816-20260622T160000@VHSHAGEN
SUMMARY:Ukulele Kleines Instrument - Großer Spaß! (261-9816) 
LOCATION:Max-Reger-Musikschule, Dödterstr. 10, 58095 Hagen
END:VEVENT
BEGIN:VEVENT
DTSTAMP:20260419T143246
DTSTART;TZID=Europe/Berlin:20260629T160000
DTEND;TZID=Europe/Berlin:20260629T173000
UID:261-9816-20260629T160000@VHSHAGEN
SUMMARY:Ukulele Kleines Instrument - Großer Spaß! (261-9816) 
LOCATION:Max-Reger-Musikschule, Dödterstr. 10, 58095 Hagen
END:VEVENT
BEGIN:VEVENT
DTSTAMP:20260419T143246
DTSTART;TZID=Europe/Berlin:20260706T160000
DTEND;TZID=Europe/Berlin:20260706T173000
UID:261-9816-20260706T160000@VHSHAGEN
SUMMARY:Ukulele Kleines Instrument - Großer Spaß! (261-9816) 
LOCATION:Max-Reger-Musikschule, Dödterstr. 10, 58095 Hagen
END:VEVENT
BEGIN:VEVENT
DTSTAMP:20260419T143246
DTSTART;TZID=Europe/Berlin:20260713T160000
DTEND;TZID=Europe/Berlin:20260713T173000
UID:261-9816-20260713T160000@VHSHAGEN
SUMMARY:Ukulele Kleines Instrument - Großer Spaß! (261-9816) 
LOCATION:Max-Reger-Musikschule, Dödterstr. 10, 58095 Hagen
END:VEVENT
END:VCALENDAR