BEGIN:VCALENDAR
PRODID:http://www.kufer.de/kuferweb / DE
VERSION:2.0
METHOD:PUBLISH
CALSCALE:GREGORIAN
X-WR-TIMEZONE:Europe/Berlin
BEGIN:VTIMEZONE
TZID:Europe/Berlin
X-LIC-LOCATION:Europe/Berlin
BEGIN:DAYLIGHT
TZOFFSETFROM:+0100
TZOFFSETTO:+0200
TZNAME:CEST
DTSTART;TZID=Europe/Berlin:19700329T020000
RRULE:FREQ=YEARLY;INTERVAL=1;BYDAY=-1SU;BYMONTH=3
END:DAYLIGHT
BEGIN:STANDARD
TZOFFSETFROM:+0200
TZOFFSETTO:+0100
TZNAME:CET
DTSTART;TZID=Europe/Berlin:19701025T030000
RRULE:FREQ=YEARLY;INTERVAL=1;BYDAY=-1SU;BYMONTH=10
END:STANDARD
END:VTIMEZONE
BEGIN:VEVENT
DTSTAMP:20260421T105520
DTSTART;TZID=Europe/Berlin:20260112T113000
DTEND;TZID=Europe/Berlin:20260112T123000
UID:261-9803-20260112T113000@VHSHAGEN
SUMMARY:Klavierspiel als Konzentrations- und Gedächtnistraining Klavierkurs für Menschen höheren Alters (261-9803) 
LOCATION:Max-Reger-Musikschule, Dödterstr. 10, 58095 Hagen
END:VEVENT
BEGIN:VEVENT
DTSTAMP:20260421T105520
DTSTART;TZID=Europe/Berlin:20260119T113000
DTEND;TZID=Europe/Berlin:20260119T123000
UID:261-9803-20260119T113000@VHSHAGEN
SUMMARY:Klavierspiel als Konzentrations- und Gedächtnistraining Klavierkurs für Menschen höheren Alters (261-9803) 
LOCATION:Max-Reger-Musikschule, Dödterstr. 10, 58095 Hagen
END:VEVENT
BEGIN:VEVENT
DTSTAMP:20260421T105520
DTSTART;TZID=Europe/Berlin:20260126T113000
DTEND;TZID=Europe/Berlin:20260126T123000
UID:261-9803-20260126T113000@VHSHAGEN
SUMMARY:Klavierspiel als Konzentrations- und Gedächtnistraining Klavierkurs für Menschen höheren Alters (261-9803) 
LOCATION:Max-Reger-Musikschule, Dödterstr. 10, 58095 Hagen
END:VEVENT
BEGIN:VEVENT
DTSTAMP:20260421T105520
DTSTART;TZID=Europe/Berlin:20260202T113000
DTEND;TZID=Europe/Berlin:20260202T123000
UID:261-9803-20260202T113000@VHSHAGEN
SUMMARY:Klavierspiel als Konzentrations- und Gedächtnistraining Klavierkurs für Menschen höheren Alters (261-9803) 
LOCATION:Max-Reger-Musikschule, Dödterstr. 10, 58095 Hagen
END:VEVENT
BEGIN:VEVENT
DTSTAMP:20260421T105520
DTSTART;TZID=Europe/Berlin:20260209T113000
DTEND;TZID=Europe/Berlin:20260209T123000
UID:261-9803-20260209T113000@VHSHAGEN
SUMMARY:Klavierspiel als Konzentrations- und Gedächtnistraining Klavierkurs für Menschen höheren Alters (261-9803) 
LOCATION:Max-Reger-Musikschule, Dödterstr. 10, 58095 Hagen
END:VEVENT
BEGIN:VEVENT
DTSTAMP:20260421T105520
DTSTART;TZID=Europe/Berlin:20260223T113000
DTEND;TZID=Europe/Berlin:20260223T123000
UID:261-9803-20260223T113000@VHSHAGEN
SUMMARY:Klavierspiel als Konzentrations- und Gedächtnistraining Klavierkurs für Menschen höheren Alters (261-9803) 
LOCATION:Max-Reger-Musikschule, Dödterstr. 10, 58095 Hagen
END:VEVENT
BEGIN:VEVENT
DTSTAMP:20260421T105520
DTSTART;TZID=Europe/Berlin:20260302T113000
DTEND;TZID=Europe/Berlin:20260302T123000
UID:261-9803-20260302T113000@VHSHAGEN
SUMMARY:Klavierspiel als Konzentrations- und Gedächtnistraining Klavierkurs für Menschen höheren Alters (261-9803) 
LOCATION:Max-Reger-Musikschule, Dödterstr. 10, 58095 Hagen
END:VEVENT
BEGIN:VEVENT
DTSTAMP:20260421T105520
DTSTART;TZID=Europe/Berlin:20260309T113000
DTEND;TZID=Europe/Berlin:20260309T123000
UID:261-9803-20260309T113000@VHSHAGEN
SUMMARY:Klavierspiel als Konzentrations- und Gedächtnistraining Klavierkurs für Menschen höheren Alters (261-9803) 
LOCATION:Max-Reger-Musikschule, Dödterstr. 10, 58095 Hagen
END:VEVENT
BEGIN:VEVENT
DTSTAMP:20260421T105520
DTSTART;TZID=Europe/Berlin:20260316T113000
DTEND;TZID=Europe/Berlin:20260316T123000
UID:261-9803-20260316T113000@VHSHAGEN
SUMMARY:Klavierspiel als Konzentrations- und Gedächtnistraining Klavierkurs für Menschen höheren Alters (261-9803) 
LOCATION:Max-Reger-Musikschule, Dödterstr. 10, 58095 Hagen
END:VEVENT
BEGIN:VEVENT
DTSTAMP:20260421T105520
DTSTART;TZID=Europe/Berlin:20260323T113000
DTEND;TZID=Europe/Berlin:20260323T123000
UID:261-9803-20260323T113000@VHSHAGEN
SUMMARY:Klavierspiel als Konzentrations- und Gedächtnistraining Klavierkurs für Menschen höheren Alters (261-9803) 
LOCATION:Max-Reger-Musikschule, Dödterstr. 10, 58095 Hagen
END:VEVENT
BEGIN:VEVENT
DTSTAMP:20260421T105520
DTSTART;TZID=Europe/Berlin:20260413T113000
DTEND;TZID=Europe/Berlin:20260413T123000
UID:261-9803-20260413T113000@VHSHAGEN
SUMMARY:Klavierspiel als Konzentrations- und Gedächtnistraining Klavierkurs für Menschen höheren Alters (261-9803) 
LOCATION:Max-Reger-Musikschule, Dödterstr. 10, 58095 Hagen
END:VEVENT
BEGIN:VEVENT
DTSTAMP:20260421T105520
DTSTART;TZID=Europe/Berlin:20260420T113000
DTEND;TZID=Europe/Berlin:20260420T123000
UID:261-9803-20260420T113000@VHSHAGEN
SUMMARY:Klavierspiel als Konzentrations- und Gedächtnistraining Klavierkurs für Menschen höheren Alters (261-9803) 
LOCATION:Max-Reger-Musikschule, Dödterstr. 10, 58095 Hagen
END:VEVENT
BEGIN:VEVENT
DTSTAMP:20260421T105520
DTSTART;TZID=Europe/Berlin:20260427T113000
DTEND;TZID=Europe/Berlin:20260427T123000
UID:261-9803-20260427T113000@VHSHAGEN
SUMMARY:Klavierspiel als Konzentrations- und Gedächtnistraining Klavierkurs für Menschen höheren Alters (261-9803) 
LOCATION:Max-Reger-Musikschule, Dödterstr. 10, 58095 Hagen
END:VEVENT
BEGIN:VEVENT
DTSTAMP:20260421T105520
DTSTART;TZID=Europe/Berlin:20260504T113000
DTEND;TZID=Europe/Berlin:20260504T123000
UID:261-9803-20260504T113000@VHSHAGEN
SUMMARY:Klavierspiel als Konzentrations- und Gedächtnistraining Klavierkurs für Menschen höheren Alters (261-9803) 
LOCATION:Max-Reger-Musikschule, Dödterstr. 10, 58095 Hagen
END:VEVENT
BEGIN:VEVENT
DTSTAMP:20260421T105520
DTSTART;TZID=Europe/Berlin:20260511T113000
DTEND;TZID=Europe/Berlin:20260511T123000
UID:261-9803-20260511T113000@VHSHAGEN
SUMMARY:Klavierspiel als Konzentrations- und Gedächtnistraining Klavierkurs für Menschen höheren Alters (261-9803) 
LOCATION:Max-Reger-Musikschule, Dödterstr. 10, 58095 Hagen
END:VEVENT
BEGIN:VEVENT
DTSTAMP:20260421T105520
DTSTART;TZID=Europe/Berlin:20260518T113000
DTEND;TZID=Europe/Berlin:20260518T123000
UID:261-9803-20260518T113000@VHSHAGEN
SUMMARY:Klavierspiel als Konzentrations- und Gedächtnistraining Klavierkurs für Menschen höheren Alters (261-9803) 
LOCATION:Max-Reger-Musikschule, Dödterstr. 10, 58095 Hagen
END:VEVENT
BEGIN:VEVENT
DTSTAMP:20260421T105520
DTSTART;TZID=Europe/Berlin:20260601T113000
DTEND;TZID=Europe/Berlin:20260601T123000
UID:261-9803-20260601T113000@VHSHAGEN
SUMMARY:Klavierspiel als Konzentrations- und Gedächtnistraining Klavierkurs für Menschen höheren Alters (261-9803) 
LOCATION:Max-Reger-Musikschule, Dödterstr. 10, 58095 Hagen
END:VEVENT
BEGIN:VEVENT
DTSTAMP:20260421T105520
DTSTART;TZID=Europe/Berlin:20260608T113000
DTEND;TZID=Europe/Berlin:20260608T123000
UID:261-9803-20260608T113000@VHSHAGEN
SUMMARY:Klavierspiel als Konzentrations- und Gedächtnistraining Klavierkurs für Menschen höheren Alters (261-9803) 
LOCATION:Max-Reger-Musikschule, Dödterstr. 10, 58095 Hagen
END:VEVENT
BEGIN:VEVENT
DTSTAMP:20260421T105520
DTSTART;TZID=Europe/Berlin:20260615T113000
DTEND;TZID=Europe/Berlin:20260615T123000
UID:261-9803-20260615T113000@VHSHAGEN
SUMMARY:Klavierspiel als Konzentrations- und Gedächtnistraining Klavierkurs für Menschen höheren Alters (261-9803) 
LOCATION:Max-Reger-Musikschule, Dödterstr. 10, 58095 Hagen
END:VEVENT
BEGIN:VEVENT
DTSTAMP:20260421T105520
DTSTART;TZID=Europe/Berlin:20260622T113000
DTEND;TZID=Europe/Berlin:20260622T123000
UID:261-9803-20260622T113000@VHSHAGEN
SUMMARY:Klavierspiel als Konzentrations- und Gedächtnistraining Klavierkurs für Menschen höheren Alters (261-9803) 
LOCATION:Max-Reger-Musikschule, Dödterstr. 10, 58095 Hagen
END:VEVENT
BEGIN:VEVENT
DTSTAMP:20260421T105520
DTSTART;TZID=Europe/Berlin:20260629T113000
DTEND;TZID=Europe/Berlin:20260629T123000
UID:261-9803-20260629T113000@VHSHAGEN
SUMMARY:Klavierspiel als Konzentrations- und Gedächtnistraining Klavierkurs für Menschen höheren Alters (261-9803) 
LOCATION:Max-Reger-Musikschule, Dödterstr. 10, 58095 Hagen
END:VEVENT
BEGIN:VEVENT
DTSTAMP:20260421T105520
DTSTART;TZID=Europe/Berlin:20260706T113000
DTEND;TZID=Europe/Berlin:20260706T123000
UID:261-9803-20260706T113000@VHSHAGEN
SUMMARY:Klavierspiel als Konzentrations- und Gedächtnistraining Klavierkurs für Menschen höheren Alters (261-9803) 
LOCATION:Max-Reger-Musikschule, Dödterstr. 10, 58095 Hagen
END:VEVENT
BEGIN:VEVENT
DTSTAMP:20260421T105520
DTSTART;TZID=Europe/Berlin:20260713T113000
DTEND;TZID=Europe/Berlin:20260713T123000
UID:261-9803-20260713T113000@VHSHAGEN
SUMMARY:Klavierspiel als Konzentrations- und Gedächtnistraining Klavierkurs für Menschen höheren Alters (261-9803) 
LOCATION:Max-Reger-Musikschule, Dödterstr. 10, 58095 Hagen
END:VEVENT
END:VCALENDAR