BEGIN:VCALENDAR
PRODID:http://www.kufer.de/kuferweb / DE
VERSION:2.0
METHOD:PUBLISH
CALSCALE:GREGORIAN
X-WR-TIMEZONE:Europe/Berlin
BEGIN:VTIMEZONE
TZID:Europe/Berlin
X-LIC-LOCATION:Europe/Berlin
BEGIN:DAYLIGHT
TZOFFSETFROM:+0100
TZOFFSETTO:+0200
TZNAME:CEST
DTSTART;TZID=Europe/Berlin:19700329T020000
RRULE:FREQ=YEARLY;INTERVAL=1;BYDAY=-1SU;BYMONTH=3
END:DAYLIGHT
BEGIN:STANDARD
TZOFFSETFROM:+0200
TZOFFSETTO:+0100
TZNAME:CET
DTSTART;TZID=Europe/Berlin:19701025T030000
RRULE:FREQ=YEARLY;INTERVAL=1;BYDAY=-1SU;BYMONTH=10
END:STANDARD
END:VTIMEZONE
BEGIN:VEVENT
DTSTAMP:20260421T111105
DTSTART;TZID=Europe/Berlin:20260112T093000
DTEND;TZID=Europe/Berlin:20260112T103000
UID:261-9801-20260112T093000@VHSHAGEN
SUMMARY:Klavierspiel als Konzentrations- und Gedächtnistraining Klavierkurs für Menschen höheren Alters (261-9801) 
LOCATION:Max-Reger-Musikschule, Dödterstr. 10, 58095 Hagen
END:VEVENT
BEGIN:VEVENT
DTSTAMP:20260421T111105
DTSTART;TZID=Europe/Berlin:20260119T093000
DTEND;TZID=Europe/Berlin:20260119T103000
UID:261-9801-20260119T093000@VHSHAGEN
SUMMARY:Klavierspiel als Konzentrations- und Gedächtnistraining Klavierkurs für Menschen höheren Alters (261-9801) 
LOCATION:Max-Reger-Musikschule, Dödterstr. 10, 58095 Hagen
END:VEVENT
BEGIN:VEVENT
DTSTAMP:20260421T111105
DTSTART;TZID=Europe/Berlin:20260126T093000
DTEND;TZID=Europe/Berlin:20260126T103000
UID:261-9801-20260126T093000@VHSHAGEN
SUMMARY:Klavierspiel als Konzentrations- und Gedächtnistraining Klavierkurs für Menschen höheren Alters (261-9801) 
LOCATION:Max-Reger-Musikschule, Dödterstr. 10, 58095 Hagen
END:VEVENT
BEGIN:VEVENT
DTSTAMP:20260421T111105
DTSTART;TZID=Europe/Berlin:20260202T093000
DTEND;TZID=Europe/Berlin:20260202T103000
UID:261-9801-20260202T093000@VHSHAGEN
SUMMARY:Klavierspiel als Konzentrations- und Gedächtnistraining Klavierkurs für Menschen höheren Alters (261-9801) 
LOCATION:Max-Reger-Musikschule, Dödterstr. 10, 58095 Hagen
END:VEVENT
BEGIN:VEVENT
DTSTAMP:20260421T111105
DTSTART;TZID=Europe/Berlin:20260209T093000
DTEND;TZID=Europe/Berlin:20260209T103000
UID:261-9801-20260209T093000@VHSHAGEN
SUMMARY:Klavierspiel als Konzentrations- und Gedächtnistraining Klavierkurs für Menschen höheren Alters (261-9801) 
LOCATION:Max-Reger-Musikschule, Dödterstr. 10, 58095 Hagen
END:VEVENT
BEGIN:VEVENT
DTSTAMP:20260421T111105
DTSTART;TZID=Europe/Berlin:20260223T093000
DTEND;TZID=Europe/Berlin:20260223T103000
UID:261-9801-20260223T093000@VHSHAGEN
SUMMARY:Klavierspiel als Konzentrations- und Gedächtnistraining Klavierkurs für Menschen höheren Alters (261-9801) 
LOCATION:Max-Reger-Musikschule, Dödterstr. 10, 58095 Hagen
END:VEVENT
BEGIN:VEVENT
DTSTAMP:20260421T111105
DTSTART;TZID=Europe/Berlin:20260302T093000
DTEND;TZID=Europe/Berlin:20260302T103000
UID:261-9801-20260302T093000@VHSHAGEN
SUMMARY:Klavierspiel als Konzentrations- und Gedächtnistraining Klavierkurs für Menschen höheren Alters (261-9801) 
LOCATION:Max-Reger-Musikschule, Dödterstr. 10, 58095 Hagen
END:VEVENT
BEGIN:VEVENT
DTSTAMP:20260421T111105
DTSTART;TZID=Europe/Berlin:20260309T093000
DTEND;TZID=Europe/Berlin:20260309T103000
UID:261-9801-20260309T093000@VHSHAGEN
SUMMARY:Klavierspiel als Konzentrations- und Gedächtnistraining Klavierkurs für Menschen höheren Alters (261-9801) 
LOCATION:Max-Reger-Musikschule, Dödterstr. 10, 58095 Hagen
END:VEVENT
BEGIN:VEVENT
DTSTAMP:20260421T111105
DTSTART;TZID=Europe/Berlin:20260316T093000
DTEND;TZID=Europe/Berlin:20260316T103000
UID:261-9801-20260316T093000@VHSHAGEN
SUMMARY:Klavierspiel als Konzentrations- und Gedächtnistraining Klavierkurs für Menschen höheren Alters (261-9801) 
LOCATION:Max-Reger-Musikschule, Dödterstr. 10, 58095 Hagen
END:VEVENT
BEGIN:VEVENT
DTSTAMP:20260421T111105
DTSTART;TZID=Europe/Berlin:20260323T093000
DTEND;TZID=Europe/Berlin:20260323T103000
UID:261-9801-20260323T093000@VHSHAGEN
SUMMARY:Klavierspiel als Konzentrations- und Gedächtnistraining Klavierkurs für Menschen höheren Alters (261-9801) 
LOCATION:Max-Reger-Musikschule, Dödterstr. 10, 58095 Hagen
END:VEVENT
BEGIN:VEVENT
DTSTAMP:20260421T111105
DTSTART;TZID=Europe/Berlin:20260413T093000
DTEND;TZID=Europe/Berlin:20260413T103000
UID:261-9801-20260413T093000@VHSHAGEN
SUMMARY:Klavierspiel als Konzentrations- und Gedächtnistraining Klavierkurs für Menschen höheren Alters (261-9801) 
LOCATION:Max-Reger-Musikschule, Dödterstr. 10, 58095 Hagen
END:VEVENT
BEGIN:VEVENT
DTSTAMP:20260421T111105
DTSTART;TZID=Europe/Berlin:20260420T093000
DTEND;TZID=Europe/Berlin:20260420T103000
UID:261-9801-20260420T093000@VHSHAGEN
SUMMARY:Klavierspiel als Konzentrations- und Gedächtnistraining Klavierkurs für Menschen höheren Alters (261-9801) 
LOCATION:Max-Reger-Musikschule, Dödterstr. 10, 58095 Hagen
END:VEVENT
BEGIN:VEVENT
DTSTAMP:20260421T111105
DTSTART;TZID=Europe/Berlin:20260427T093000
DTEND;TZID=Europe/Berlin:20260427T103000
UID:261-9801-20260427T093000@VHSHAGEN
SUMMARY:Klavierspiel als Konzentrations- und Gedächtnistraining Klavierkurs für Menschen höheren Alters (261-9801) 
LOCATION:Max-Reger-Musikschule, Dödterstr. 10, 58095 Hagen
END:VEVENT
BEGIN:VEVENT
DTSTAMP:20260421T111105
DTSTART;TZID=Europe/Berlin:20260504T093000
DTEND;TZID=Europe/Berlin:20260504T103000
UID:261-9801-20260504T093000@VHSHAGEN
SUMMARY:Klavierspiel als Konzentrations- und Gedächtnistraining Klavierkurs für Menschen höheren Alters (261-9801) 
LOCATION:Max-Reger-Musikschule, Dödterstr. 10, 58095 Hagen
END:VEVENT
BEGIN:VEVENT
DTSTAMP:20260421T111105
DTSTART;TZID=Europe/Berlin:20260511T093000
DTEND;TZID=Europe/Berlin:20260511T103000
UID:261-9801-20260511T093000@VHSHAGEN
SUMMARY:Klavierspiel als Konzentrations- und Gedächtnistraining Klavierkurs für Menschen höheren Alters (261-9801) 
LOCATION:Max-Reger-Musikschule, Dödterstr. 10, 58095 Hagen
END:VEVENT
BEGIN:VEVENT
DTSTAMP:20260421T111105
DTSTART;TZID=Europe/Berlin:20260518T093000
DTEND;TZID=Europe/Berlin:20260518T103000
UID:261-9801-20260518T093000@VHSHAGEN
SUMMARY:Klavierspiel als Konzentrations- und Gedächtnistraining Klavierkurs für Menschen höheren Alters (261-9801) 
LOCATION:Max-Reger-Musikschule, Dödterstr. 10, 58095 Hagen
END:VEVENT
BEGIN:VEVENT
DTSTAMP:20260421T111105
DTSTART;TZID=Europe/Berlin:20260601T093000
DTEND;TZID=Europe/Berlin:20260601T103000
UID:261-9801-20260601T093000@VHSHAGEN
SUMMARY:Klavierspiel als Konzentrations- und Gedächtnistraining Klavierkurs für Menschen höheren Alters (261-9801) 
LOCATION:Max-Reger-Musikschule, Dödterstr. 10, 58095 Hagen
END:VEVENT
BEGIN:VEVENT
DTSTAMP:20260421T111105
DTSTART;TZID=Europe/Berlin:20260608T093000
DTEND;TZID=Europe/Berlin:20260608T103000
UID:261-9801-20260608T093000@VHSHAGEN
SUMMARY:Klavierspiel als Konzentrations- und Gedächtnistraining Klavierkurs für Menschen höheren Alters (261-9801) 
LOCATION:Max-Reger-Musikschule, Dödterstr. 10, 58095 Hagen
END:VEVENT
BEGIN:VEVENT
DTSTAMP:20260421T111105
DTSTART;TZID=Europe/Berlin:20260615T093000
DTEND;TZID=Europe/Berlin:20260615T103000
UID:261-9801-20260615T093000@VHSHAGEN
SUMMARY:Klavierspiel als Konzentrations- und Gedächtnistraining Klavierkurs für Menschen höheren Alters (261-9801) 
LOCATION:Max-Reger-Musikschule, Dödterstr. 10, 58095 Hagen
END:VEVENT
BEGIN:VEVENT
DTSTAMP:20260421T111105
DTSTART;TZID=Europe/Berlin:20260622T093000
DTEND;TZID=Europe/Berlin:20260622T103000
UID:261-9801-20260622T093000@VHSHAGEN
SUMMARY:Klavierspiel als Konzentrations- und Gedächtnistraining Klavierkurs für Menschen höheren Alters (261-9801) 
LOCATION:Max-Reger-Musikschule, Dödterstr. 10, 58095 Hagen
END:VEVENT
BEGIN:VEVENT
DTSTAMP:20260421T111105
DTSTART;TZID=Europe/Berlin:20260629T093000
DTEND;TZID=Europe/Berlin:20260629T103000
UID:261-9801-20260629T093000@VHSHAGEN
SUMMARY:Klavierspiel als Konzentrations- und Gedächtnistraining Klavierkurs für Menschen höheren Alters (261-9801) 
LOCATION:Max-Reger-Musikschule, Dödterstr. 10, 58095 Hagen
END:VEVENT
BEGIN:VEVENT
DTSTAMP:20260421T111105
DTSTART;TZID=Europe/Berlin:20260706T093000
DTEND;TZID=Europe/Berlin:20260706T103000
UID:261-9801-20260706T093000@VHSHAGEN
SUMMARY:Klavierspiel als Konzentrations- und Gedächtnistraining Klavierkurs für Menschen höheren Alters (261-9801) 
LOCATION:Max-Reger-Musikschule, Dödterstr. 10, 58095 Hagen
END:VEVENT
BEGIN:VEVENT
DTSTAMP:20260421T111105
DTSTART;TZID=Europe/Berlin:20260713T093000
DTEND;TZID=Europe/Berlin:20260713T103000
UID:261-9801-20260713T093000@VHSHAGEN
SUMMARY:Klavierspiel als Konzentrations- und Gedächtnistraining Klavierkurs für Menschen höheren Alters (261-9801) 
LOCATION:Max-Reger-Musikschule, Dödterstr. 10, 58095 Hagen
END:VEVENT
END:VCALENDAR