BEGIN:VCALENDAR
PRODID:http://www.kufer.de/kuferweb / DE
VERSION:2.0
METHOD:PUBLISH
CALSCALE:GREGORIAN
X-WR-TIMEZONE:Europe/Berlin
BEGIN:VTIMEZONE
TZID:Europe/Berlin
X-LIC-LOCATION:Europe/Berlin
BEGIN:DAYLIGHT
TZOFFSETFROM:+0100
TZOFFSETTO:+0200
TZNAME:CEST
DTSTART;TZID=Europe/Berlin:19700329T020000
RRULE:FREQ=YEARLY;INTERVAL=1;BYDAY=-1SU;BYMONTH=3
END:DAYLIGHT
BEGIN:STANDARD
TZOFFSETFROM:+0200
TZOFFSETTO:+0100
TZNAME:CET
DTSTART;TZID=Europe/Berlin:19701025T030000
RRULE:FREQ=YEARLY;INTERVAL=1;BYDAY=-1SU;BYMONTH=10
END:STANDARD
END:VTIMEZONE
BEGIN:VEVENT
DTSTAMP:20260422T163305
DTSTART;TZID=Europe/Berlin:20260430T194500
DTEND;TZID=Europe/Berlin:20260430T203000
UID:261-6861VC-20260430T194500@VHSHAGEN
SUMMARY:A1/A2 Türkisch Konversationskurs, Teil 2 - online (261-6861VC) 
LOCATION:Onlinekurs, , 
END:VEVENT
BEGIN:VEVENT
DTSTAMP:20260422T163305
DTSTART;TZID=Europe/Berlin:20260507T194500
DTEND;TZID=Europe/Berlin:20260507T203000
UID:261-6861VC-20260507T194500@VHSHAGEN
SUMMARY:A1/A2 Türkisch Konversationskurs, Teil 2 - online (261-6861VC) 
LOCATION:Onlinekurs, , 
END:VEVENT
BEGIN:VEVENT
DTSTAMP:20260422T163305
DTSTART;TZID=Europe/Berlin:20260521T194500
DTEND;TZID=Europe/Berlin:20260521T203000
UID:261-6861VC-20260521T194500@VHSHAGEN
SUMMARY:A1/A2 Türkisch Konversationskurs, Teil 2 - online (261-6861VC) 
LOCATION:Onlinekurs, , 
END:VEVENT
BEGIN:VEVENT
DTSTAMP:20260422T163305
DTSTART;TZID=Europe/Berlin:20260528T194500
DTEND;TZID=Europe/Berlin:20260528T203000
UID:261-6861VC-20260528T194500@VHSHAGEN
SUMMARY:A1/A2 Türkisch Konversationskurs, Teil 2 - online (261-6861VC) 
LOCATION:Onlinekurs, , 
END:VEVENT
BEGIN:VEVENT
DTSTAMP:20260422T163305
DTSTART;TZID=Europe/Berlin:20260611T194500
DTEND;TZID=Europe/Berlin:20260611T203000
UID:261-6861VC-20260611T194500@VHSHAGEN
SUMMARY:A1/A2 Türkisch Konversationskurs, Teil 2 - online (261-6861VC) 
LOCATION:Onlinekurs, , 
END:VEVENT
BEGIN:VEVENT
DTSTAMP:20260422T163305
DTSTART;TZID=Europe/Berlin:20260618T194500
DTEND;TZID=Europe/Berlin:20260618T203000
UID:261-6861VC-20260618T194500@VHSHAGEN
SUMMARY:A1/A2 Türkisch Konversationskurs, Teil 2 - online (261-6861VC) 
LOCATION:Onlinekurs, , 
END:VEVENT
END:VCALENDAR