BEGIN:VCALENDAR
PRODID:http://www.kufer.de/kuferweb / DE
VERSION:2.0
METHOD:PUBLISH
CALSCALE:GREGORIAN
X-WR-TIMEZONE:Europe/Berlin
BEGIN:VTIMEZONE
TZID:Europe/Berlin
X-LIC-LOCATION:Europe/Berlin
BEGIN:DAYLIGHT
TZOFFSETFROM:+0100
TZOFFSETTO:+0200
TZNAME:CEST
DTSTART;TZID=Europe/Berlin:19700329T020000
RRULE:FREQ=YEARLY;INTERVAL=1;BYDAY=-1SU;BYMONTH=3
END:DAYLIGHT
BEGIN:STANDARD
TZOFFSETFROM:+0200
TZOFFSETTO:+0100
TZNAME:CET
DTSTART;TZID=Europe/Berlin:19701025T030000
RRULE:FREQ=YEARLY;INTERVAL=1;BYDAY=-1SU;BYMONTH=10
END:STANDARD
END:VTIMEZONE
BEGIN:VEVENT
DTSTAMP:20260424T080156
DTSTART;TZID=Europe/Berlin:20260428T110000
DTEND;TZID=Europe/Berlin:20260428T133000
UID:261-6122-20260428T110000@VHSHAGEN
SUMMARY:Sprach-Café (261-6122) 
LOCATION:Villa Post, Aula, Wehringhauser Str. 38, 58089 Hagen
END:VEVENT
BEGIN:VEVENT
DTSTAMP:20260424T080156
DTSTART;TZID=Europe/Berlin:20260502T130000
DTEND;TZID=Europe/Berlin:20260502T160000
UID:261-6122-20260502T130000@VHSHAGEN
SUMMARY:Sprach-Café (261-6122) 
LOCATION:Villa Post, Aula, Wehringhauser Str. 38, 58089 Hagen
END:VEVENT
BEGIN:VEVENT
DTSTAMP:20260424T080156
DTSTART;TZID=Europe/Berlin:20260502T160000
DTEND;TZID=Europe/Berlin:20260502T180000
UID:261-6122-20260502T160000@VHSHAGEN
SUMMARY:Sprach-Café (261-6122) 
LOCATION:Villa Post, Aula, Wehringhauser Str. 38, 58089 Hagen
END:VEVENT
END:VCALENDAR