BEGIN:VCALENDAR
PRODID:http://www.kufer.de/kuferweb / DE
VERSION:2.0
METHOD:PUBLISH
CALSCALE:GREGORIAN
X-WR-TIMEZONE:Europe/Berlin
BEGIN:VTIMEZONE
TZID:Europe/Berlin
X-LIC-LOCATION:Europe/Berlin
BEGIN:DAYLIGHT
TZOFFSETFROM:+0100
TZOFFSETTO:+0200
TZNAME:CEST
DTSTART;TZID=Europe/Berlin:19700329T020000
RRULE:FREQ=YEARLY;INTERVAL=1;BYDAY=-1SU;BYMONTH=3
END:DAYLIGHT
BEGIN:STANDARD
TZOFFSETFROM:+0200
TZOFFSETTO:+0100
TZNAME:CET
DTSTART;TZID=Europe/Berlin:19701025T030000
RRULE:FREQ=YEARLY;INTERVAL=1;BYDAY=-1SU;BYMONTH=10
END:STANDARD
END:VTIMEZONE
BEGIN:VEVENT
DTSTAMP:20260420T042655
DTSTART;TZID=Europe/Berlin:20260428T160000
DTEND;TZID=Europe/Berlin:20260428T170000
UID:261-3732-20260428T160000@VHSHAGEN
SUMMARY:Gymnastik für Senioren 60+ (261-3732) 
LOCATION:Villa Post, Atelier, Wehringhauser Str. 38, 58089 Hagen
END:VEVENT
BEGIN:VEVENT
DTSTAMP:20260420T042655
DTSTART;TZID=Europe/Berlin:20260505T160000
DTEND;TZID=Europe/Berlin:20260505T170000
UID:261-3732-20260505T160000@VHSHAGEN
SUMMARY:Gymnastik für Senioren 60+ (261-3732) 
LOCATION:Villa Post, Atelier, Wehringhauser Str. 38, 58089 Hagen
END:VEVENT
BEGIN:VEVENT
DTSTAMP:20260420T042655
DTSTART;TZID=Europe/Berlin:20260512T160000
DTEND;TZID=Europe/Berlin:20260512T170000
UID:261-3732-20260512T160000@VHSHAGEN
SUMMARY:Gymnastik für Senioren 60+ (261-3732) 
LOCATION:Villa Post, Atelier, Wehringhauser Str. 38, 58089 Hagen
END:VEVENT
BEGIN:VEVENT
DTSTAMP:20260420T042655
DTSTART;TZID=Europe/Berlin:20260519T160000
DTEND;TZID=Europe/Berlin:20260519T170000
UID:261-3732-20260519T160000@VHSHAGEN
SUMMARY:Gymnastik für Senioren 60+ (261-3732) 
LOCATION:Villa Post, Atelier, Wehringhauser Str. 38, 58089 Hagen
END:VEVENT
BEGIN:VEVENT
DTSTAMP:20260420T042655
DTSTART;TZID=Europe/Berlin:20260526T160000
DTEND;TZID=Europe/Berlin:20260526T170000
UID:261-3732-20260526T160000@VHSHAGEN
SUMMARY:Gymnastik für Senioren 60+ (261-3732) 
LOCATION:Villa Post, Atelier, Wehringhauser Str. 38, 58089 Hagen
END:VEVENT
BEGIN:VEVENT
DTSTAMP:20260420T042655
DTSTART;TZID=Europe/Berlin:20260602T160000
DTEND;TZID=Europe/Berlin:20260602T170000
UID:261-3732-20260602T160000@VHSHAGEN
SUMMARY:Gymnastik für Senioren 60+ (261-3732) 
LOCATION:Villa Post, Atelier, Wehringhauser Str. 38, 58089 Hagen
END:VEVENT
BEGIN:VEVENT
DTSTAMP:20260420T042655
DTSTART;TZID=Europe/Berlin:20260623T160000
DTEND;TZID=Europe/Berlin:20260623T170000
UID:261-3732-20260623T160000@VHSHAGEN
SUMMARY:Gymnastik für Senioren 60+ (261-3732) 
LOCATION:Villa Post, Atelier, Wehringhauser Str. 38, 58089 Hagen
END:VEVENT
BEGIN:VEVENT
DTSTAMP:20260420T042655
DTSTART;TZID=Europe/Berlin:20260707T160000
DTEND;TZID=Europe/Berlin:20260707T170000
UID:261-3732-20260707T160000@VHSHAGEN
SUMMARY:Gymnastik für Senioren 60+ (261-3732) 
LOCATION:Villa Post, Atelier, Wehringhauser Str. 38, 58089 Hagen
END:VEVENT
END:VCALENDAR